Workbook

Sheet Evaluación candidaturas_Hoja1
A7: Evaluación candidaturas a la oferta de trabajo Referencia: 201711180-2
A15: Candidaturas recibidas
E16: Criterio 1: Requisitos mínimos
E17: Experiencia mínima de tres años en revisión de historias clínicas informatizadas y como encuestador/a de pacientes en proyectos de investigación en el ámbito sanitario (realización encuestas, revisión de historias clínicas electrónicas, así como seguimiento del paciente) | F17: Experiencia mínima de tres años en gestión de bases de datos asociadas a proyectos de investigación del ámbito clínico sanitario
A18: Apellido 1 | B18: Apellido 2 | C18: Nombre | D18: DNI | E18: Cumple: Sí / No | F18: Cumple: Sí / No
A19: MARTÍN | B19: CORRAL | C19: JOSUNE | D19: 22743158E | E19: =+notas!F2 -> sí | F19: =+notas!H2 -> sí
A20: Gil | B20: Morales | C20: Christian | D20: 45819577N | E20: =+notas!F3 -> NO | F20: =+notas!H3 -> NO
A21: PEREZ | B21: PEREZ | C21: GOIZALDE | D21: 44977029T | E21: =+notas!F4 -> NO | F21: =+notas!H4 -> NO
A22: RODRIGUEZ | B22: SALVADOR | C22: ALBA | D22: 22758295W | E22: =+notas!F5 -> No | F22: =+notas!H5 -> No
A23: Toro | B23: Murillo | C23: Juan Jesús | D23: 28808301L | E23: =+notas!F6 -> NO | F23: =+notas!H6 -> NO
A24: FUENTES | B24: LAHOZ | C24: ANGELA | D24: 72828113Q | E24: =+notas!F7 -> NO | F24: =+notas!H7 -> NO
A25: Ibargoyen | B25: Garcia | C25: Urko | D25: 44569650C | E25: =+notas!F8 -> NO | F25: =+notas!H8 -> NO
A26: LAHOZ | B26: GUTIERREZ | C26: EVA MARIA | D26: 16297765B | E26: =+notas!F9 -> NO | F26: =+notas!H9 -> NO
A31: Se han preseleccionado todas aquellas personas que cumplen los requisitos establecidos en la oferta de trabajo publicada en la Web de BIOEF.
A40: Candidaturas preseleccionadas
E42: Criterio 2: Valoración de otros méritos
A43: Descripción de los Criterios de selección en la Hoja 2 | E43: Experiencia superior a tres años en revisión de datos de proyectos de investigación en el ámbito clínico sanitario (realización encuestas, revisión datos, así como seguimiento del paciente). | F43: Experiencia superior a tres años en gestión de bases de datos de proyectos de investigación del ámbito clínico sanitario | G43: Participación en estudios de investigación en el ámbito clínico | H43: Conocimientos de euskera | I43: TOTAL
A44: Apellido 1 | B44: Apellido 2 | C44: Nombre | D44: DNI | E44: Puntuación | F44: Puntuación | G44: Puntuación | H44: Puntuación
C45: Puntuaciones máximas: | E45: =+'Criterios selección_Hoja2'!D22 -> 50 | F45: =+'Criterios selección_Hoja2'!D29 -> 25 | G45: =+'Criterios selección_Hoja2'!D36 -> 20 | H45: =+'Criterios selección_Hoja2'!D43 -> 5 | I45: =SUM(E45:H45) -> 100
A46: MARTÍN | B46: CORRAL | C46: JOSUNE | D46: 22743158E | E46: =+notas!J2 -> 22 | F46: =+notas!L2 -> 5.5 | G46: =+notas!N2 -> 7.5 | H46: =+notas!P2 -> 0 | I46: =SUM(E46:H46) -> 35
A58: Fdo.: José María Quintana López | F58: Fdo.: Miren Orive Calzada
A59: Investigador/a principal | F59: Comité de selección
A61: Fecha: 27/08/2018

Sheet Criterios selección_Hoja2
D1: Hoja 2
B3: CRITERIOS DE SELECCIÓN - Oferta Referencia: 2017111080-2
B6: REQUISITOS
B8: Experiencia mínima de tres años en revisión de historias clínicas informatizadas y como encuestador/a de pacientes en proyectos de investigación en el ámbito sanitario (realización encuestas, revisión de historias clínicas electrónicas, así como seguimiento del paciente)
B9: Cumple | D9: Sí/No
B10: Experiencia mínima de tres años en revisión de historias clínicas informatizadas y como encuestador/a de pacientes en proyectos de investigación en el ámbito sanitario (realización encuestas, revisión de historias clínicas electrónicas, así como seguimiento del paciente) | D10: Sí
B11: Experiencia mínima de tres años en revisión de historias clínicas informatizadas y como encuestador/a de pacientes en proyectos de investigación en el ámbito sanitario (realización encuestas, revisión de historias clínicas electrónicas, así como seguimiento del paciente) | D11: No
B13: Experiencia mínima de tres años en gestión de bases de datos asociadas a proyectos de investigación del ámbito clínico sanitario
B14: Cumple | D14: Sí/No
B15: Experiencia mínima de tres años en gestión de bases de datos asociadas a proyectos de investigación del ámbito clínico sanitario | D15: Sí
B16: Experiencia mínima de tres años en gestión de bases de datos asociadas a proyectos de investigación del ámbito clínico sanitario | D16: No
B19: MERITOS
B21: Experiencia superior a tres años en revisión de datos de proyectos de investigación en el ámbito clínico sanitario (realización encuestas, revisión datos, así como seguimiento del paciente).
B22: Puntuación máxima: | D22: 50
D23: Puntos
B24: 1 punto por cada mes de experiencia superior a tres años en revisión de datos de proyectos de investigación en el ámbito clínico sanitario (realización encuestas, revisión datos, así como seguimiento del paciente), hasta un máximo de 50 puntos (4 años de experiencia o superior)
B26: Sin experiencia superior a tres años o inferior, en revisión de datos de proyectos de investigación en el ámbito clínico sanitario (realización encuestas, revisión datos, así como seguimiento del paciente). | D26: 0
B28: Experiencia superior a tres años en gestión de bases de datos de proyectos de investigación del ámbito clínico sanitario
B29: Puntuación máxima: | D29: 25
D30: Puntos
B31: 0,25 puntos por cada mes de experiencia superior a tres años en gestión de bases de datos de proyectos de investigación del ámbito clínico sanitario hata un máximo de 25 puntos (4 años de expereincia o superior)
B33: Sin experiencia superior a tres años o inferior en gestión de bases de datos de proyectos de investigación del ámbito clínico sanitario | D33: 0
B35: Participación en estudios de investigación en el ámbito clínico
B36: Puntuación máxima: | D36: 20
D37: Puntos
B38: 1,5 puntos por estudios de investigación en el ámbito clínico con un máximo de 20 puntos, 13 esutudios o más
B40: Sin participación en estudios de investigación en el ámbito clínico | D40: 0
B42: Conocimientos de euskera
B43: Puntuación máxima: | D43: 5
D44: Puntos
B45: Nivel 0/Elemental | D45: 0.5
B46: sin acreditar | D46: 0.25
B47: Nivel 1/Preintermedio/Básico | D47: 1
B48: sin acreditar | D48: 0.5
B49: Nivel 2/Intermedio | D49: 2
B50: sin acreditar | D50: 1
B51: Nivel 3/Intermedio alto/Avanzado | D51: 3
B52: sin acreditar | D52: 1.5
B53: Nivel 4/Avanzado | D53: 4
B54: sin acreditar | D54: 2
...

Sheet idiomas
B1: Idiomas
A4: Nivel 0/Elemental
A5: A1 (EOI Plan actual) | B5: EOI
A6: 1º (EOI Plan antiguo)
A7: Nivel 1/Preintermedio/Básico
A8: A2 (EOI Plan actual) | B8: EOI
A9: 2º curso (EOI Plan antiguo)
A10: KET (Key English Test) | B10: Cambridge
A12: Nivel 2/Intermedio
A13: B1.1 Y B1.2 (EOI Plan actual) | B13: EOI
A14: 3º curso (EOI Plan antiguo)
A15: PET (Preliminary Eglish Test) | B15: Cambridge
A16: B1 | B16: GV
A17: Perfil lingüístico 1 | B17: IVAP
A18: Nivel 1 | B18: HABE
A19: Nivel 3/Intermedio alto/Avanzado
A20: B2.1 Y B2.2 (EOI Plan actual) | B20: EOI
A21: 4º curso (EOI Plan antiguo)
A22: FCE (First Certificate in English) | B22: Cambridge
A23: B2/PL1 | B23: GV
A24: Perfil lingüístico 2 | B24: IVAP
A25: Nivel 2 | B25: HABE
A26: Nivel 4/Avanzado
A27: C1 (EOI Plan actual) | B27: EOI
A28: 5º curso (EOI Plan antiguo)
A29: CAE (Certificate in Advance English) | B29: Cambridge
A30: C1/PL2/EGA | B30: GV
A31: Perfil lingüístico 3 | B31: IVAP
A32: Nivel 3 | B32: HABE
A33: Nivel 5/Avanzado superior
A34: C2 (EOI Plan actual) | B34: EOI
A35: CPE (Certificate of Proficiency in english) | B35: Cambridge
A36: C2 | B36: GV
A37: Perfil lingüístico 4 | B37: IVAP
A38: Nivel 4 | B38: HABE

Sheet notas
A1: Apellido 1 | B1: Apellido 2 | C1: Nombre | D1: DNI | E1: Experiencia mínima de tres años en revisión de historias clínicas informatizadas y como encuestador/a de pacientes en proyectos de investigación en el ámbito sanitario (realización encuestas, revisión de historias clínicas electrónicas, así como seguimiento del paciente) | F1: sí/no | G1: Experiencia mínima de tres años en gestión de bases de datos asociadas a proyectos de investigación del ámbito clínico sanitario | H1: sí/no | I1: Experiencia superior a tres años en revisión de datos de proyectos de investigación en el ámbito clínico sanitario (realización encuestas, revisión datos, así como seguimiento del paciente). | J1: puntos | K1: Experiencia superior a tres años en gestión de bases de datos de proyectos de investigación del ámbito clínico sanitario | L1: puntos | M1: Participación en estudios de investigación en el ámbito clínico | N1: puntos | O1: Conocimientos de euskera | P1: puntos
A2: MARTÍN | B2: CORRAL | C2: JOSUNE | D2: 22743158E | E2: 58 meses, 4 años | F2: sí | G2: 58 meses, 4 años | H2: sí | I2: 22 meses*1 | J2: 22 | K2: 22*0,25 | L2: 5.5 | M2: 5 proyectos, estudios | N2: 7.5 | O2: no tiene | P2: 0 | T2: no adjunta formulario
A3: Gil | B3: Morales | C3: Christian | D3: 45819577N | E3: no | F3: NO | G3: no | H3: NO | T3: no adjunta formulario
A4: PEREZ | B4: PEREZ | C4: GOIZALDE | D4: 44977029T | E4: no | F4: NO | G4: no | H4: NO | I4: no | K4: no | M4: no | O4: SI, NIVEL MEDIO
A5: RODRIGUEZ | B5: SALVADOR | C5: ALBA | D5: 22758295W | E5: Sí. Tengo experiencia en la obtención y recogida de datos mediante E-Osabide en la Unidad de Salud Materno- Infantil y Reproducción Asistida en el Hospital Universitario Cruces (2018). Durante esta estancia realicé el TFM titulado: “Valoración del diagnóstico clínico de los factores genéticos implicados en la infertilidad masculina.” . Durante mi TFM consulté y recogí datos de las historias clínicas electrónicas de pacientes con infertilidad masculina, concretamente análisis bioquímicos y pruebas genéticas. Además, gestioné la base de datos (introduje los datos en la base de datos, revisé datos y depuré los errores). Además, tengo experiencia en el grupo de Genética y epigenética de enfermedades complejas de la facultad de Medicina y Odontología de la UPV/EHU durante más de dos años y en el que realicé mi TFG (2015-2017). | F5: No | G5: Sí. En la Unidad de Salud Materno- Infantil y Reproducción Asistida en el Hospital Universitario Cruces (2018). Durante mi TFM consulté y recogí datos de las historias clínicas electrónicas de pacientes con infertilidad masculina, concretamente análisis bioquímicos y pruebas genéticas. Además, gestioné la base de datos (introduje los datos en la base de datos, revisé datos y depuré los errores). Además, tengo experiencia en el grupo de Genética y epigenética de enfermedades complejas de la facultad de Medicina y Odontología de la UPV/EHU durante más de dos años y en el que realicé mi TFG (2015-2017) titulado "Variantes genéticas en miRNAs implicadas en la susceptibildad a desarrollar Alzheimer". En esta ocasión, elaboré la base de datos, gestioné la base de datos (introduje los datos en la base de datos, revisé datos y depuré los errores) además de realizar diversos cálculos mediante herramientas bioinformáticas (Word, Excel, SPSS, Estadístico R, BLAST, CRUSTAL, Perlprime, Latex, mirbase, RNAfold, genomebrowser, Haploview, miRWalk 2.0, KEGG PATHWAY y Diana tools). | H5: No | I5: Tengo experiencia en la revisión de datos y seguimiento de pacientes con infertilidad masculina mediante la plataforma E-Osabide en la Unidad de Salud Materno- Infantil y Reproducción Asistida en el Hospital Universitario Cruces (2018). Durante mi TFM consulté y recogí datos de las historias clínicas electrónicas de pacientes con infertilidad masculina, concretamente análisis bioquímicos y pruebas genéticas. Además, gestioné la base de datos (introduje los datos en la base de datos, revisé datos y depuré los errores). | K5: Tengo experiencia en la revisión de datos y seguimiento de pacientes con infertilidad masculina mediante la plataforma E-Osabide en la Unidad de Salud Materno- Infantil y Reproducción Asistida en el Hospital Universitario Cruces (2018). Durante mi TFM consulté y recogí datos de las historias clínicas electrónicas de pacientes con infertilidad masculina, concretamente análisis bioquímicos y pruebas genéticas. Además, gestioné la base de datos (introduje los datos en la base de datos, revisé datos y depuré los errores). | M5: Sí, He realizado mi TFM en la Unidad de Salud Materno- Infantil y Reproducción Asistida en el Hospital Universitario Cruces (2018), basado en la investigación de las causas de infertilidad masculina. Durante mi TFM consulté y recogí datos de las historias clínicas electrónicas de pacientes con infertilidad masculina, concretamente análisis bioquímicos y pruebas genéticas. Además, gestioné la base de datos (introduje los datos en la base de datos, revisé datos y depuré los errores). He colaborado en el grupo de Genética y epigenética de enfermedades complejas de la facultad de Medicina y Odontología de la UPV/EHU durante más de dos años y en el que realicé mi TFG (2015-2017) investigando "Variantes genéticas en miRNAs implicadas en la susceptibildad a desarrollar Alzheimer". | O5: Sí. Tengo el título HABE3 (C1). | P5: 4
A6: Toro | B6: Murillo | C6: Juan Jesús | D6: 28808301L | F6: NO | H6: NO | T6: no adjunta formulario
A7: FUENTES | B7: LAHOZ | C7: ANGELA | D7: 72828113Q | F7: NO | H7: NO | T7: no adjunta formulario
A8: Ibargoyen | B8: Garcia | C8: Urko | D8: 44569650C | E8: Tres años de experiencia revisando historias clínicas informatizadas de pacientes de gonorrea y candidiasis en el Hospital Basurto de Bilbao para dos proyectos de investigación. Uno sobre la epidemiología de la gonorrea y otro sobre la epidemiología de la candidiasis. No se realizó seguimiento de pacientes. | F8: NO | G8: Tres años de experiencia gestionando bases de datos relacionadas con los dos proyectos mencionados en el apartado anterior. Se gestionaron bases de datos relacionadas con los resultados logrados durante los estudios y otras relacionadas con las historias clínicas de los pacientes y relacionadas con las muestras microbiológicas que se analizaron. | H8: NO | I8: No. | K8: No. | M8: Sí. Los dos mencionados arriba: un estudio de la epidemiología de la candidiasis invasiva y otro sobre la epidemiología de la gonorrea. Los dos realizados en el Hospital Basurto de Bilbao como investigador principal en proyectos de máster y doctorado. | O8: Sí. Hablante nativo y con el EGA.
A9: LAHOZ | B9: GUTIERREZ | C9: EVA MARIA | D9: 16297765B | E9: No. Tengo experiencia en manejo de historias clínicas, debido a que para la realización de mi tesis doctoral, cogí los datos del Hospital de Leza, debiendo obtener los datos a partir de estas. | F9: NO | G9: No. Pero para poder realizar la tesis tuve que utilizar bases de datos para poder hacer el estudio. | H9: NO | I9: No. Pero en cuanto a seguimiento farmacéutico tengo muchos cursos hechos sobre numerosos y variados temas. | K9: No. | M9: No. | O9: Sí. Pero poco.
