Workbook

Sheet Evaluación candidaturas_Hoja1
A6: Evaluación candidaturas a la oferta de trabajo Referencia: KK-2018/0054-BIOEF
A10: Candidaturas recibidas
E12: Criterio 1: Requisitos mínimos
E13: Experiencia mínima de un año en revisión de datos de estudios clínicos (realización de encuestas y seguimiento de pacientes).
A14: Apellido 1 | B14: Apellido 2 | C14: Nombre | D14: DNI | E14: Cumple: Sí / No
A15: Laínz | B15: Palacio | C15: Lucía Lourdes | D15: 72175486Z | E15: =+notas!F2 -> 0
A16: Romarate | B16: Garcia | C16: Leire | D16: 44344654X | E16: =+notas!F3 -> No
A17: GÓMEZ | B17: PÉREZ | C17: LUIS | D17: 72059465M | E17: =+notas!F4 -> 0
A18: Uriarte | B18: Portillo | C18: Josu | D18: 45892701L | E18: =+notas!F5 -> No
A19: PEREZ | B19: PEREZ | C19: GOIZALDE | D19: 44977029T | E19: =+notas!F6 -> No
A20: Treceño | B20: Dalmau | C20: Begoña | D20: 78879844X | E20: =+notas!F7 -> No
A21: Diaz de Junguitu | B21: Fernández | C21: Iñaki | D21: 72554115V | E21: =+notas!F8 -> No
A22: Lopez de Larruzea | B22: Apraiz | C22: Libe | D22: 72592874K | E22: =+notas!F9 -> No
A23: SAENZ DE ARZAMENDI | B23: ORIBE | C23: ANE KARMELE | D23: 72829690Y | E23: =+notas!F10 -> 0
A33: Se han preseleccionado todas aquellas personas que cumplen los requisitos establecidos en la oferta de trabajo publicada en la Web de BIOEF.
A35: Candidaturas preseleccionadas
E37: Criterio 2: Valoración de otros méritos
A38: Descripción de los Criterios de selección en la Hoja 2 | E38: Experiencia superior al año en revisión de datos de estudios clínicos (realización de encuestas y seguimiento de pacientes). | F38: Formación en monitorización de estudios clínicos | G38: Formación en buenas prácticas clínicas | H38: Experiencia en gestión y coordinación de estudios clínicos | I38: Experiencia en la revisión de historias clínicas electrónicas de pacientes | J38: Conocimientos de euskera
A39: Apellido 1 | B39: Apellido 2 | C39: Nombre | D39: DNI | E39: Puntuación | F39: Puntuación | G39: Puntuación | H39: Puntuación | I39: Puntuación | J39: Puntuación | K39: TOTAL
C40: Puntuaciones máximas: | E40: =+'Criterios selección_Hoja2'!D17 -> 35 | F40: =+'Criterios selección_Hoja2'!D22 -> 10 | G40: =+'Criterios selección_Hoja2'!D28 -> 10 | H40: =+'Criterios selección_Hoja2'!D34 -> 15 | I40: =+'Criterios selección_Hoja2'!D40 -> 25 | J40: =+'Criterios selección_Hoja2'!D46 -> 5 | K40: =SUM(E40:J40) -> 100
A41: Laínz | B41: Palacio | C41: Lucía Lourdes | D41: 72175486Z | E41: =+notas!H2 -> 0 | F41: =+notas!J2 -> 10 | G41: =+notas!L2 -> 10 | H41: =+notas!N2 -> 0 | I41: =+notas!P2 -> 0 | J41: =+notas!R2 -> 0 | K41: =SUM(E41:J41) -> 20
A42: Romarate | B42: Garcia | C42: Leire | D42: 44344654X | E42: =+notas!H3 -> 0 | F42: =+notas!J3 -> 0 | G42: =+notas!L3 -> 0 | H42: =+notas!N3 -> 0 | I42: =+notas!P3 -> 0 | J42: =+notas!R3 -> 0 | K42: =SUM(E42:J42) -> 0
A43: GÓMEZ | B43: PÉREZ | C43: LUIS | D43: 72059465M | E43: =+notas!H4 -> 0 | F43: =+notas!J4 -> 0 | G43: =+notas!L4 -> 0 | H43: =+notas!N4 -> 0 | I43: =+notas!P4 -> 0 | J43: =+notas!R4 -> 0 | K43: =SUM(E43:J43) -> 0
A44: Uriarte | B44: Portillo | C44: Josu | D44: 45892701L | E44: =+notas!H5 -> 0 | F44: =+notas!J5 -> 0 | G44: =+notas!L5 -> 0 | H44: =+notas!N5 -> 0 | I44: =+notas!P5 -> 0 | J44: =+notas!R5 -> 4 | K44: =SUM(E44:J44) -> 4
A45: PEREZ | B45: PEREZ | C45: GOIZALDE | D45: 44977029T | E45: =+notas!H6 -> 0 | F45: =+notas!J6 -> 0 | G45: =+notas!L6 -> 0 | H45: =+notas!N6 -> 0 | I45: =+notas!P6 -> 0 | J45: =+notas!R6 -> 0 | K45: =SUM(E45:J45) -> 0
A46: Treceño | B46: Dalmau | C46: Begoña | D46: 78879844X | E46: =+notas!H7 -> 0 | F46: =+notas!J7 -> 0 | G46: =+notas!L7 -> 0 | H46: =+notas!N7 -> 0 | I46: =+notas!P7 -> 0 | J46: =+notas!R7 -> 0 | K46: =SUM(E46:J46) -> 0
A47: Diaz de Junguitu | B47: Fernández | C47: Iñaki | D47: 72554115V | E47: =+notas!H8 -> 0 | F47: =+notas!J8 -> 0 | G47: =+notas!L8 -> 0 | H47: =+notas!N8 -> 0 | I47: =+notas!P8 -> 0 | J47: =+notas!R8 -> 0 | K47: =SUM(E47:J47) -> 0
A48: Lopez de Larruzea | B48: Apraiz | C48: Libe | D48: 72592874K | E48: =+notas!H9 -> 0 | F48: =+notas!J9 -> 0 | G48: =+notas!L9 -> 0 | H48: =+notas!N9 -> 0 | I48: =+notas!P9 -> 0 | J48: =+notas!R9 -> 0 | K48: =SUM(E48:J48) -> 0
A49: SAENZ DE ARZAMENDI | B49: ORIBE | C49: ANE KARMELE | D49: 72829690Y | E49: =+notas!H10 -> 0 | F49: =+notas!J10 -> 10 | G49: =+notas!L10 -> 10 | H49: =+notas!N10 -> 0 | I49: =+notas!P10 -> 0 | J49: =+notas!R10 -> 2 | K49: =SUM(E49:J49) -> 22
A68: Fdo.:
A69: Ana Loizaga Iriarte
A70: Investigador/a principal
A72: Fecha: 07/08/2018

Sheet Criterios selección_Hoja2
D1: Hoja 2
B3: CRITERIOS DE SELECCIÓN - Oferta Referencia: KK-2018/0054-BIOEF
B6: REQUISITOS
B8: Con experiencia mínima de un año en revisión de datos de estudios clínicos (realización de encuestas y seguimiento de pacientes).
B9: Cumple | D9: Sí/No
B11: Experiencia mínima de un año en revisión de datos de estudios clínicos (realización de encuestas y seguimiento de pacientes). | D11: Sí
B12: Experiencia mínima de un año en revisión de datos de estudios clínicos (realización de encuestas y seguimiento de pacientes). | D12: No
B14: MÉRITOS
B16: Experiencia superior al año en revisión de datos de estudios clínicos (realización de encuestas y seguimiento de pacientes).
B17: Puntuación máxima: | D17: 35
D18: Puntos
B19: Experiencia superior al año en revisión de datos de estudios clínicos (realización de encuestas y seguimiento de pacientes).: 5 puntos por año con un máximo de 35 puntos con 7 años de experiencia o más. En el caso de periodos inferiores al año se computarán 0,5 puntos por mes.
B21: Formación en monitorización de estudios clínicos
B22: Puntuación máxima: | D22: 10
D23: Puntos
B24: Con formación en monitorización de estudios clínicos, adquirida mediante cursos certificados | D24: 10
B25: Sin formación en monitorización de estudios clínicos | D25: 0
B27: Formación en buenas prácticas clínicas
B28: Puntuación máxima: | D28: 10
D29: Puntos
B30: Formación en buenas prácticas clínicas adquirida mediante cursos certificados | D30: 10
B31: Sin formación en buenas prácticas clínicas | D31: 0
B33: Experiencia en gestión y coordinación de estudios clínicos.
B34: Puntuación máxima: | D34: 15
D35: Puntos
B36: Experiencia en gestión y coordinación de estudios clínicos.: 3 puntos por año con un máximo de 15 puntos con 5 años de experiencia o más. En el caso de periodos inferiores al año se computarán 0,25 puntos por mes.
B37: Sin experiencia en gestión y coordinación de estudios clínicos. | D37: 0
B39: Experiencia en la revisión de historias clínicas electrónicas de pacientes.
B40: Puntuación máxima: | D40: 25
D41: Puntos
B42: Experiencia de un año o superior al año en revisión de datos de estudios clínicos (realización de encuestas y seguimiento de pacientes).: 4 puntos por año con un máximo de 25 puntos con 6 años de experiencia o más. En el caso de periodos inferiores al año se computarán 0,35 puntos por mes.
B43: Sin experiencia en la revisión de historias clínicas electrónicas de pacientes. | D43: 0
B45: Conocimientos de euskera
B46: Puntuación máxima: | D46: 5
D47: Puntos
B48: Nivel 0/Elemental | D48: 0.5
B50: Nivel 1/Preintermedio/Básico
B51: acreditado | D51: 1
B52: sin acreditar | D52: 0.15
B53: Nivel 2/Intermedio
B54: acreditado | D54: 2
B55: sin acreditar | D55: 0.25
B56: Nivel 3/Intermedio alto/Avanzado
B57: acreditado | D57: 3
B58: sin acreditar | D58: 0.5
B59: Nivel 4/Avanzado
B60: acreditado | D60: 4
B61: sin acreditar | D61: 1
B62: Nivel 5/Avanzado superior
B63: acreditado | D63: 5
B64: sin acreditar | D64: 1.5
B65: Sin conocimientos | D65: 0
B69: Puntuación máxima méritos | D69: =+D46+D40+D34+D28+D22+D17 -> 100
B111: Idiomas
B115: Nivel 0/Elemental
B116: A1 (EOI Plan actual) | D116: EOI
B117: 1º (EOI Plan antiguo)
B119: Nivel 1/Preintermedio/Básico
B120: A2 (EOI Plan actual) | D120: EOI
B121: 2º curso (EOI Plan antiguo)
B122: KET (Key English Test) | D122: Cambridge
B125: Nivel 2/Intermedio
B126: B1.1 Y B1.2 (EOI Plan actual) | D126: EOI
B127: 3º curso (EOI Plan antiguo)
B128: PET (Preliminary Eglish Test) | D128: Cambridge
B129: B1 | D129: GV
B130: Perfil lingüístico 1 | D130: IVAP
B131: Nivel 1 | D131: HABE
B133: Nivel 3/Intermedio alto/Avanzado
B134: B2.1 Y B2.2 (EOI Plan actual) | D134: EOI
B135: 4º curso (EOI Plan antiguo)
B136: FCE (First Certificate in English) | D136: Cambridge
B137: B2/PL1 | D137: GV
B138: Perfil lingüístico 2 | D138: IVAP
B139: Nivel 2 | D139: HABE
B141: Nivel 4/Avanzado
B142: C1 (EOI Plan actual) | D142: EOI
B143: 5º curso (EOI Plan antiguo)
B144: CAE (Certificate in Advance English) | D144: Cambridge
B145: C1/PL2/EGA | D145: GV
B146: Perfil lingüístico 3 | D146: IVAP
B147: Nivel 3 | D147: HABE
B149: Nivel 5/Avanzado superior
B150: C2 (EOI Plan actual) | D150: EOI
B151: CPE (Certificate of Proficiency in english) | D151: Cambridge
B152: C2 | D152: GV
B153: Perfil lingüístico 4 | D153: IVAP
B154: Nivel 4 | D154: HABE

Sheet notas
A1: Apellido 1 | B1: Apellido 2 | C1: Nombre | D1: DNI | E1: Experiencia mínima de un año en revisión de datos de estudios clínicos (realización de encuestas y seguimiento de pacientes). | F1: Sí/No | G1: Experiencia superior al año en revisión de datos de estudios clínicos (realización de encuestas y seguimiento de pacientes). | H1: Puntos | I1: Formación en monitorización de estudios clínicos. | J1: Puntos | K1: Formación en buenas prácticas clínicas. | L1: Puntos | M1: Experiencia en gestión y coordinación de estudios clínicos. | N1: Puntos | O1: Experiencia en la revisión de historias clínicas electrónicas de pacientes. | P1: Puntos | Q1: Conocimientos de euskera. | R1: Puntos
A2: Laínz | B2: Palacio | C2: Lucía Lourdes | D2: 72175486Z | E2: 02/01/2016-Agosto 2017: convenio de prácticas como embrióloga en la Unidad de Reproduccíon Humana del Hospital de Cruces 18/09/2017-actualidad: contrato para la realización de un proyecto de investigación en la Unidad de Reproducción Humana del Hospital universitario Cruces (Contratada por IIS BIOCRUCES) | G2: Si, detallado en el apartado anterior. 02/01/2016-Agosto 2017: convenio de prácticas como embrióloga en la Unidad de Reproduccíon Humana del Hospital de Cruces 18/09/2017-actualidad: contrato para la realización de un proyecto de investigación en la Unidad de Reproducción Humana del Hospital Universitario Cruces (Contratada por IIS BIOCRUCES) | I2: Si.Febrero 2018-Marzo 2019 realización del Máster Internacional en Monitorización de Ensayos Clínicos de CESIF. Trabajo de fin de Máster: realización y seguimiento de una Visita de Inicio. | J2: 10 | K2: Si. Debido a mi participación en tres ensayos clínicos en infertilidad femenina y masculina, estoy formada en buenas prácticas clínicas Dispongo de un documento de un curso que certifica mi formación en ICH GCP. (Global Health Training Centre) | L2: 10 | M2: 02/01/2016-Agosto 2017: convenio de prácticas como embrióloga en la Unidad de Reproduccíon Humana del Hospital de Cruces 18/09/2017-actualidad: contrato para la realización de un proyecto de investigación en la Unidad de Reproducción Humana del Hospital Universitario Cruces (Contratada por IIS BIOCRUCES) | O2: 02/01/2016-Agosto 2017: convenio de prácticas como embrióloga en la Unidad de Reproduccíon Humana del Hospital Universitario Cruces 18/09/2017-actualidad: contrato para la realización de un proyecto de investigación en la Unidad de Reproducción Humana del Hospital Universitario Cruces (Contratada por IIS BIOCRUCES) Si, desde junio de 2017 me he encargado de revisar datos en los tres ensayos clínicos descritos en el primer apartado, manejando programas como E-Osabide, buscando datos en la historia clínica de las pacientes participantes, buscando analíticas, y entrando datos en el CRF y resolviendo las queries correspondientes. | Q2: No | R2: 0
A3: Romarate | B3: Garcia | C3: Leire | D3: 44344654X | F3: No | H3: 0 | S3: no cumplimenta formulario
A4: GÓMEZ | B4: PÉREZ | C4: LUIS | D4: 72059465M | E4: Sí. | G4: 15/Jul/2013 - 1/Mar/2014 - TFS S.L. 16/Ene/2016 - 31/Ago/2016 - Biodonostia 17/Sep/2018 - 28/Feb/2019 - BioEF | I4: No. | J4: 0 | K4: Sí. | M4: Sí. 1/Jul/2011 - 11/Mar/2016 - TFS S.L. 16/Ene/2016 - 31/Ago/2016 - Biodonostia | O4: Sí. 01/Feb/2012 - 11/Mar/2016 - TFS S.L. 16/Ene/2016 - 31/Ago/2016 - Biodonostia 17/Sep/2018 - 28/Feb/2019 - BioEF | Q4: No
A5: Uriarte | B5: Portillo | C5: Josu | D5: 45892701L | E5: Sin experiencia | F5: No | G5: Sin experiencia | H5: 0 | I5: Sin formación | J5: 0 | K5: Sin formación | L5: 0 | M5: Sin experiencia | N5: 0 | O5: Sin experiencia | P5: 0 | Q5: Sí. Bilingüe. Carrera realizada en euskera. Certificado de nivel de aptitud (C1) de estudios realizados en E. O. I. de la C. A. P. V (d 46/2009). Nivel C1 de euskera del marco común europeo. | R5: 4
A6: PEREZ | B6: PEREZ | C6: GOIZALDE | D6: 44977029T | F6: No | S6: no cumplimeta formulario
A7: Treceño | B7: Dalmau | C7: Begoña | D7: 78879844X | E7: no | F7: No | G7: no | I7: no | K7: no | M7: no | O7: no | Q7: básico
A8: Diaz de Junguitu | B8: Fernández | C8: Iñaki | D8: 72554115V | E8: No, tengo experiencia desde el 2/04/2018 hasta el 31/05/2018. En este periodo realizé prácticas en un departamento de ensayos clínicos como study coordinator. | F8: No | G8: No | I8: Si, he realizado en máster en Investigación Clínica y Aplicada a la Oncología de la universidad CEU San Pablo (Curso 2017/18) | K8: Si, además de haberlas trabajado tanto en la carrera como en el máster, poseo el certificado que lo acredita. Certificado por Syneos Health (Version date 01-FEBUARY-2017) | M8: Si, tengo experiencia desde el 2/04/2018 hasta el 31/05/2018. En este periodo realizé prácticas en un departamento de ensayos clínicos como study coordinator. | O8: Si, tengo experiencia desde el 2/04/2018 hasta el 31/05/2018. En este periodo realizé prácticas en un departamento de ensayos clínicos como study coordinator. | Q8: Si, nivel B2
A9: Lopez de Larruzea | B9: Apraiz | C9: Libe | D9: 72592874K | F9: No | S9: no cumplimenta formulario
A10: SAENZ DE ARZAMENDI | B10: ORIBE | C10: ANE KARMELE | D10: 72829690Y | E10: De alguno estudios clínicos que llevo uno de ellos es revisión de datos y cumplimentació, además de ver el seguimiento. | I10: Sí, es la función principal de mi puesto | J10: 10 | K10: sí | L10: 10 | M10: Realizo alguna gestiones como coordinación y gestión | O10: Sí, tengo experiencia ya que para monitorizar por ejemplo, al revisar con el CRD mi fuente principal son las hsitorias clínica electrónicas | Q10: Sí, tengo acreditados B1 y actualmente estudiando para sacar el B2 | R10: 2
